BEGIN:VCALENDAR
VERSION:2.0
PRODID:-//ExpressionEngine Easy iCalendar plugin//NONSGML v2.0.1//EN
X-WR-TIMEZONE:America/Chicago
X-WR-CALNAME:Upcoming Auctions
BEGIN:VEVENT
UID:100566
DTSTAMP:20230525T153000
DTSTART:20230525T153000
DTEND:20230525T163000
SUMMARY:LIVING ESTATE AUCTION
LOCATION:1417 SW Western Avenue\, Topeka\, KS 66604\, US
DESCRIPTION:Betty Glenn Living Estate | Antiques & Collectibles\, Mid Ce
 ntury\, Furniture\, Home Decor\, Household Goods\, & Much More!
URL:https://www.auctionskc.com/auctions/detail/bw100566
SEQUENCE:1
END:VEVENT
END:VCALENDAR