BEGIN:VCALENDAR
VERSION:2.0
PRODID:-//ExpressionEngine Easy iCalendar plugin//NONSGML v2.0.1//EN
X-WR-TIMEZONE:America/Chicago
X-WR-CALNAME:Upcoming Auctions
BEGIN:VEVENT
UID:100571
DTSTAMP:20230628T140000
DTSTART:20230628T140000
DTEND:20230628T150000
SUMMARY:PODS of Kansas City Storage Vault Auction
LOCATION:14220 Norby Road\, Grandview\, MO 64030\, US
DESCRIPTION:PODS of Kansas City | 15+/- Units in Grandview\, MO
URL:https://www.auctionskc.com/auctions/detail/bw100571
SEQUENCE:1
END:VEVENT
END:VCALENDAR