BEGIN:VCALENDAR
VERSION:2.0
PRODID:-//ExpressionEngine Easy iCalendar plugin//NONSGML v2.0.1//EN
X-WR-TIMEZONE:America/Chicago
X-WR-CALNAME:Upcoming Auctions
BEGIN:VEVENT
UID:100919
DTSTAMP:20230512T173000
DTSTART:20230512T173000
DTEND:20230512T183000
SUMMARY:EMERGENCY LAST MINUTE ESTATE AUCTION
LOCATION:4920 NE 38th Street\, Kansas City\, MO 64117\, US
DESCRIPTION:EMERGENCY LAST MINUTE SITUATION! | Antiques & Collectibles\, 
 Furniture\, Home Decor\, Household Goods\, & Much More!
URL:https://www.auctionskc.com/auctions/detail/bw100919
SEQUENCE:1
END:VEVENT
END:VCALENDAR