BEGIN:VCALENDAR
VERSION:2.0
PRODID:-//ExpressionEngine Easy iCalendar plugin//NONSGML v2.0.1//EN
X-WR-TIMEZONE:America/Chicago
X-WR-CALNAME:Upcoming Auctions
BEGIN:VEVENT
UID:100993
DTSTAMP:20230516T170000
DTSTART:20230516T170000
DTEND:20230516T180000
SUMMARY:ESTATE AUCTION
LOCATION:4316 NE 64th Terrace\, Kansas City\, MO 64119\, US
DESCRIPTION:Marcella Schrick Estate | Furniture\, Tools\, Major Appliances
 \, Home Decor\, House Goods\, & Much More!
URL:https://www.auctionskc.com/auctions/detail/bw100993
SEQUENCE:1
END:VEVENT
END:VCALENDAR