BEGIN:VCALENDAR
VERSION:2.0
PRODID:-//ExpressionEngine Easy iCalendar plugin//NONSGML v2.0.1//EN
X-WR-TIMEZONE:America/Chicago
X-WR-CALNAME:Upcoming Auctions
BEGIN:VEVENT
UID:101005
DTSTAMP:20230517T173000
DTSTART:20230517T173000
DTEND:20230517T183000
SUMMARY:VINTAGE TIME CAPSULE LIVING ESTATE AUCTION
LOCATION:11220 W 66th Terrace\, Shawnee\, KS 66203\, US
DESCRIPTION:Catherine Leeker Living Estate | Antiques & Collectibles\, Je
 welry\, Furniture\, Home Decor\, Household Goods\, & Much More!
URL:https://www.auctionskc.com/auctions/detail/bw101005
SEQUENCE:1
END:VEVENT
END:VCALENDAR