BEGIN:VCALENDAR
VERSION:2.0
PRODID:-//ExpressionEngine Easy iCalendar plugin//NONSGML v2.0.1//EN
X-WR-TIMEZONE:America/Chicago
X-WR-CALNAME:Upcoming Auctions
BEGIN:VEVENT
UID:101007
DTSTAMP:20230519T100000
DTSTART:20230519T100000
DTEND:20230519T110000
SUMMARY:ESTATE AUCTION
LOCATION:13105 E. 61st Street\, Kansas City\, MO 64133\, US
DESCRIPTION:Furniture\, Collectibles\, Trailer\, Tools\, Appliances\, Home De
 cor\, Household Goods\, & Much More!
URL:https://www.auctionskc.com/auctions/detail/bw101007
SEQUENCE:1
END:VEVENT
END:VCALENDAR