BEGIN:VCALENDAR
VERSION:2.0
PRODID:-//ExpressionEngine Easy iCalendar plugin//NONSGML v2.0.1//EN
X-WR-TIMEZONE:America/Chicago
X-WR-CALNAME:Upcoming Auctions
BEGIN:VEVENT
UID:101093
DTSTAMP:20230521T110000
DTSTART:20230521T110000
DTEND:20230521T120000
SUMMARY:ESTATE AUCTION
LOCATION:612 SW Holloway Lane\, Lee's Summit\, MO 64081\, US
DESCRIPTION:Marenia L. Harris Estate | Antiques & Collectibles\, Firearms
 \, Furniture\, Tools\, Home Decor\, Household Goods\, & Much More
 !
URL:https://www.auctionskc.com/auctions/detail/bw101093
SEQUENCE:1
END:VEVENT
END:VCALENDAR