BEGIN:VCALENDAR
VERSION:2.0
PRODID:-//ExpressionEngine Easy iCalendar plugin//NONSGML v2.0.1//EN
X-WR-TIMEZONE:America/Chicago
X-WR-CALNAME:Upcoming Auctions
BEGIN:VEVENT
UID:101246
DTSTAMP:20230530T163000
DTSTART:20230530T163000
DTEND:20230530T173000
SUMMARY:REAL ESTATE & PERSONAL PROPERTY AUCTION
LOCATION:7315 N. Brooklyn Avenue\, Gladstone\, MO 64118\, US
DESCRIPTION:Richard F. & Ida J. Cowan Rev. Trust | Real Estate\, Collecti
 bles\, Sterling\, Jewelry\, Mid Century\, Furniture\, Tools\, Maj
 or Appliances\, Home Decor\, Household Goods\, & Much More!
URL:https://www.auctionskc.com/auctions/detail/bw101246
SEQUENCE:1
END:VEVENT
END:VCALENDAR