BEGIN:VCALENDAR
VERSION:2.0
PRODID:-//ExpressionEngine Easy iCalendar plugin//NONSGML v2.0.1//EN
X-WR-TIMEZONE:America/Chicago
X-WR-CALNAME:Upcoming Auctions
BEGIN:VEVENT
UID:101733
DTSTAMP:20230604T110000
DTSTART:20230604T110000
DTEND:20230604T120000
SUMMARY:ESTATE AUCTION
LOCATION:5543 Granada Lane\, Fairway\, KS 66205\, US
DESCRIPTION:Jim Claypool Estate | Truck\, Antiques & Collectibles\, Furnit
 ure\, Home Decor\, Household Goods\, & Much More!
URL:https://www.auctionskc.com/auctions/detail/bw101733
SEQUENCE:1
END:VEVENT
END:VCALENDAR