BEGIN:VCALENDAR
VERSION:2.0
PRODID:-//ExpressionEngine Easy iCalendar plugin//NONSGML v2.0.1//EN
X-WR-TIMEZONE:America/Chicago
X-WR-CALNAME:Upcoming Auctions
BEGIN:VEVENT
UID:101975
DTSTAMP:20230617T103000
DTSTART:20230617T103000
DTEND:20230617T113000
SUMMARY:REAL ESTATE & PERSONAL PROPERTY AUCTION
LOCATION:8 SE County Road Y\, Warrensburg\, MO 64093\, US
DESCRIPTION:Patrick Ament Living Estate | Real Estate\, Vehicles\, Tractor
 s\, Farm Equipment\, Tools & Shop Equipment\, Collectibles\, Fur
 niture\, Major Appliances\, Home Decor\, Household Goods\, & Muc
 h More!
URL:https://www.auctionskc.com/auctions/detail/bw101975
SEQUENCE:1
END:VEVENT
END:VCALENDAR