BEGIN:VCALENDAR
VERSION:2.0
PRODID:-//ExpressionEngine Easy iCalendar plugin//NONSGML v2.0.1//EN
X-WR-TIMEZONE:America/Chicago
X-WR-CALNAME:Upcoming Auctions
BEGIN:VEVENT
UID:102221
DTSTAMP:20230609T170000
DTSTART:20230609T170000
DTEND:20230609T180000
SUMMARY:HILL ESTATE AUCTION
LOCATION:4833 N Oakley Avenue\, Kansas City\, MO 64119\, US
DESCRIPTION:Hill Estate | Truck\, Lawn Tractor\, Collectibles\, Furniture\,
  Tools\, Home Decor\, Major Appliances\, Household Goods\, & Muc
 h More!
URL:https://www.auctionskc.com/auctions/detail/bw102221
SEQUENCE:1
END:VEVENT
END:VCALENDAR