BEGIN:VCALENDAR
VERSION:2.0
PRODID:-//ExpressionEngine Easy iCalendar plugin//NONSGML v2.0.1//EN
X-WR-TIMEZONE:America/Chicago
X-WR-CALNAME:Upcoming Auctions
BEGIN:VEVENT
UID:102223
DTSTAMP:20230610T103000
DTSTART:20230610T103000
DTEND:20230610T113000
SUMMARY:LIVING ESTATE AUCTION
LOCATION:2915 NE Riverside Avenue\, Topeka\, KS 66616\, US
DESCRIPTION:Antiques & Collectibles\, Vintage/Retro\, Furniture\, Home Deco
 r\, Household Goods\, & Much More!
URL:https://www.auctionskc.com/auctions/detail/bw102223
SEQUENCE:1
END:VEVENT
END:VCALENDAR