BEGIN:VCALENDAR
VERSION:2.0
PRODID:-//ExpressionEngine Easy iCalendar plugin//NONSGML v2.0.1//EN
X-WR-TIMEZONE:America/Chicago
X-WR-CALNAME:Upcoming Auctions
BEGIN:VEVENT
UID:102666
DTSTAMP:20230621T173000
DTSTART:20230621T173000
DTEND:20230621T183000
SUMMARY:LIVING ESTATE AUCTION
LOCATION:607 S. Doyle Street\, Louisburg\, KS 66053\, US
DESCRIPTION:Col. Gary & Mrs. Betty Brown Living Estate | Antiques & Coll
 ectibles\, Furniture\, Tools\, Home Decor\, Household Goods\, & M
 uch More!
URL:https://www.auctionskc.com/auctions/detail/bw102666
SEQUENCE:1
END:VEVENT
END:VCALENDAR