BEGIN:VCALENDAR
VERSION:2.0
PRODID:-//ExpressionEngine Easy iCalendar plugin//NONSGML v2.0.1//EN
X-WR-TIMEZONE:America/Chicago
X-WR-CALNAME:Upcoming Auctions
BEGIN:VEVENT
UID:102797
DTSTAMP:20230620T163000
DTSTART:20230620T163000
DTEND:20230620T173000
SUMMARY:EXCELLENT ESTATE AUCTION
LOCATION:12714 Bristol Avenue\, Grandview\, MO 64030\, US
DESCRIPTION:Coleman Estate | 2 Vehicles\, Jewelry\, Sterling\, Antiques & 
 Collectibles\, Antique Toys\, Furniture\, Home Decor\, Household
  Goods\, & Much More!
URL:https://www.auctionskc.com/auctions/detail/bw102797
SEQUENCE:1
END:VEVENT
END:VCALENDAR