BEGIN:VCALENDAR
VERSION:2.0
PRODID:-//ExpressionEngine Easy iCalendar plugin//NONSGML v2.0.1//EN
X-WR-TIMEZONE:America/Chicago
X-WR-CALNAME:Upcoming Auctions
BEGIN:VEVENT
UID:102798
DTSTAMP:20230705T173000
DTSTART:20230705T173000
DTEND:20230705T183000
SUMMARY:LIVING ESTATE AUCTION
LOCATION:5803 N. Cypress Avenue\, Kansas City\, MO 64119\, US
DESCRIPTION:Bruce & Marcella Corbitt Living Estate | Antiques & Collect
 ibles\, Furniture\, Tools\, Home Decor\, Household Goods\, & Muc
 h More!
URL:https://www.auctionskc.com/auctions/detail/bw102798
SEQUENCE:1
END:VEVENT
END:VCALENDAR