BEGIN:VCALENDAR
VERSION:2.0
PRODID:-//ExpressionEngine Easy iCalendar plugin//NONSGML v2.0.1//EN
X-WR-TIMEZONE:America/Chicago
X-WR-CALNAME:Upcoming Auctions
BEGIN:VEVENT
UID:102875
DTSTAMP:20230711T170000
DTSTART:20230711T170000
DTEND:20230711T180000
SUMMARY:ESTATE AUCTION
LOCATION:136 SE Ridgeview Court\, Lee's Summit\, MO 64063\, US
DESCRIPTION:Salm Estate | Antiques & Collectibles\, Jewelry\, Lladro Col
 lection\, Furniture\, Major Appliances\, Tools\, Home Decor\, Ho
 usehold Goods\, & Much More!
URL:https://www.auctionskc.com/auctions/detail/bw102875
SEQUENCE:1
END:VEVENT
END:VCALENDAR