BEGIN:VCALENDAR
VERSION:2.0
PRODID:-//ExpressionEngine Easy iCalendar plugin//NONSGML v2.0.1//EN
X-WR-TIMEZONE:America/Chicago
X-WR-CALNAME:Upcoming Auctions
BEGIN:VEVENT
UID:102924
DTSTAMP:20230627T170000
DTSTART:20230627T170000
DTEND:20230627T180000
SUMMARY:2-DAY MID CENTURY COLLECTOR & DEALER'S LIVING ESTATE AUCTION
LOCATION:6817 N Hardesty Avenue\, Kansas City\, MO 64119\, US
DESCRIPTION:Candice Johnson Living Estate | Lifetime Collections of Mid 
 Century & Retro\, Collectibles\, Glassware\, Furniture\, Home De
 cor\, & Much More!
URL:https://www.auctionskc.com/auctions/detail/bw102924
SEQUENCE:1
END:VEVENT
END:VCALENDAR