BEGIN:VCALENDAR
VERSION:2.0
PRODID:-//ExpressionEngine Easy iCalendar plugin//NONSGML v2.0.1//EN
X-WR-TIMEZONE:America/Chicago
X-WR-CALNAME:Upcoming Auctions
BEGIN:VEVENT
UID:102957
DTSTAMP:20230625T110000
DTSTART:20230625T110000
DTEND:20230625T120000
SUMMARY:LIVING ESTATE AUCTION
LOCATION:3910 Faraon Street\, St. Joseph\, MO 64506\, US
DESCRIPTION:Joey & Kayla Shaline Living Estate | Antiques & Collectibl
 es\, Guns\, Furniture\, Tools\, Home Decor\, Household Goods\, & M
 uch More!
URL:https://www.auctionskc.com/auctions/detail/bw102957
SEQUENCE:1
END:VEVENT
END:VCALENDAR