BEGIN:VCALENDAR
VERSION:2.0
PRODID:-//ExpressionEngine Easy iCalendar plugin//NONSGML v2.0.1//EN
X-WR-TIMEZONE:America/Chicago
X-WR-CALNAME:Upcoming Auctions
BEGIN:VEVENT
UID:103221
DTSTAMP:20230628T170000
DTSTART:20230628T170000
DTEND:20230628T180000
SUMMARY:2-DAY MID CENTURY COLLECTOR & DEALER'S LIVING ESTATE AUCTION
LOCATION:6817 N. Hardesty Avenue\, Kansas City\, MO 64118\, US
DESCRIPTION:Candice Johnson Living Estate | Lifetime Collections of Mid
  Century & Retro\, Collectibles\, Glassware\, Furniture\, Home D
 ecor\, & Much More!
URL:https://www.auctionskc.com/auctions/detail/bw103221
SEQUENCE:1
END:VEVENT
END:VCALENDAR