BEGIN:VCALENDAR
VERSION:2.0
PRODID:-//ExpressionEngine Easy iCalendar plugin//NONSGML v2.0.1//EN
X-WR-TIMEZONE:America/Chicago
X-WR-CALNAME:Upcoming Auctions
BEGIN:VEVENT
UID:103222
DTSTAMP:20230718T170000
DTSTART:20230718T170000
DTEND:20230718T180000
SUMMARY:REAL ESTATE & PERSONAL PROPERTY AUCTION
LOCATION:507 SE 20th Street\, Oak Grove\, MO 64075\, US
DESCRIPTION:Annette Brooker Trust | Real Estate\, Collectibles\, Sewing\, 
 Longaberger Baskets\, Furniture\, Tools\, Major Appliances\, Ho
 me Decor\, Household Goods\, & Much More!
URL:https://www.auctionskc.com/auctions/detail/bw103222
SEQUENCE:1
END:VEVENT
END:VCALENDAR