BEGIN:VCALENDAR
VERSION:2.0
PRODID:-//ExpressionEngine Easy iCalendar plugin//NONSGML v2.0.1//EN
X-WR-TIMEZONE:America/Chicago
X-WR-CALNAME:Upcoming Auctions
BEGIN:VEVENT
UID:103227
DTSTAMP:20230630T170000
DTSTART:20230630T170000
DTEND:20230630T180000
SUMMARY:ESTATE AUCTION
LOCATION:5514 Barton Lane\, Shawnee\, KS 66203\, US
DESCRIPTION:William "Bill" Laird Estate | Antiques & Collectibles\, Furni
 ture\, Stained Glass Collection\, Vintage\, Shop Tools\, Yard Ar
 t\, Home Decor\, Household Goods\, & Much More!
URL:https://www.auctionskc.com/auctions/detail/bw103227
SEQUENCE:1
END:VEVENT
END:VCALENDAR