BEGIN:VCALENDAR
VERSION:2.0
PRODID:-//ExpressionEngine Easy iCalendar plugin//NONSGML v2.0.1//EN
X-WR-TIMEZONE:America/Chicago
X-WR-CALNAME:Upcoming Auctions
BEGIN:VEVENT
UID:103643
DTSTAMP:20230707T163000
DTSTART:20230707T163000
DTEND:20230707T173000
SUMMARY:ESTATE AUCTION
LOCATION:11413 Burton Street\, Sugar Creek\, MO 64054\, US
DESCRIPTION:Dorthy Snow Estate | Antiques & Collectibles\, Antique Furnit
 ure\, Primitives\, Home Decor\, Household Goods\, & Much More!
URL:https://www.auctionskc.com/auctions/detail/bw103643
SEQUENCE:1
END:VEVENT
END:VCALENDAR