BEGIN:VCALENDAR
VERSION:2.0
PRODID:-//ExpressionEngine Easy iCalendar plugin//NONSGML v2.0.1//EN
X-WR-TIMEZONE:America/Chicago
X-WR-CALNAME:Upcoming Auctions
BEGIN:VEVENT
UID:103644
DTSTAMP:20230713T170000
DTSTART:20230713T170000
DTEND:20230713T180000
SUMMARY:ESTATE AUCTION PART 1
LOCATION:2205 NW State Route 92\, Smithville\, MO 64089\, US
DESCRIPTION:Ioan "Joan" Maag Estate | Furniture\, Tools\, Household Goods
 \, Home Decor\, & Much More!
URL:https://www.auctionskc.com/auctions/detail/bw103644
SEQUENCE:1
END:VEVENT
END:VCALENDAR