BEGIN:VCALENDAR
VERSION:2.0
PRODID:-//ExpressionEngine Easy iCalendar plugin//NONSGML v2.0.0//EN
X-WR-TIMEZONE:America/Chicago
X-WR-CALNAME:Upcoming Auctions
BEGIN:VEVENT
UID:103719
DTSTAMP:20230730T110000
DTSTART:20230730T110000
DTEND:20230730T120000
SUMMARY:INCREDIBLE 2-RING ESTATE AUCTION PART 2
LOCATION:2205 NW State Route 92\, Smithville\, MO 64089\, US
DESCRIPTION:Iona "Joan" Maag Estate | MASSIVE 2-RING AUCTION | Lifetime
  Collections of Antiques & Collectibles\, Tractors\, Firearms\,
  Furniture\, Primitives\, Vintage\, Native American Jewelry\,
  Farm Equipment\, Yard Art\, Major Appliances\, & Much More!
URL:https://www.auctionskc.com/auctions/detail/bw103719
SEQUENCE:1
END:VEVENT
END:VCALENDAR