BEGIN:VCALENDAR
VERSION:2.0
PRODID:-//ExpressionEngine Easy iCalendar plugin//NONSGML v2.0.1//EN
X-WR-TIMEZONE:America/Chicago
X-WR-CALNAME:Upcoming Auctions
BEGIN:VEVENT
UID:104037
DTSTAMP:20230716T110000
DTSTART:20230716T110000
DTEND:20230716T120000
SUMMARY:MASSIVE 2-RING ESTATE COLLECTOR'S AUCTION
LOCATION:8640 Holmes Road\, Kansas City\, MO 64131\, US
DESCRIPTION:Private Seller | Many Antiques & Collectibles\, Firearms\, Jew
 elry\, Coins\, RR Items\, Tools\, Home Decor\, Household Goods\, &
  Much More!
URL:https://www.auctionskc.com/auctions/detail/bw104037
SEQUENCE:1
END:VEVENT
END:VCALENDAR