BEGIN:VCALENDAR
VERSION:2.0
PRODID:-//ExpressionEngine Easy iCalendar plugin//NONSGML v2.0.1//EN
X-WR-TIMEZONE:America/Chicago
X-WR-CALNAME:Upcoming Auctions
BEGIN:VEVENT
UID:104357
DTSTAMP:20230717T163000
DTSTART:20230717T163000
DTEND:20230717T173000
SUMMARY:REAL ESTATE & PERSONAL PROPERTY AUCTION
LOCATION:16701 E George Franklyn Drive\, Independence\, MO 64055\, US
DESCRIPTION:Living Estate of Jack & Barbara Dunn | Real Estate\, Collecti
 bles\, Furniture\, Tools\, Home Decor\, Household Goods\, & Much 
 More!
URL:https://www.auctionskc.com/auctions/detail/bw104357
SEQUENCE:1
END:VEVENT
END:VCALENDAR