BEGIN:VCALENDAR
VERSION:2.0
PRODID:-//ExpressionEngine Easy iCalendar plugin//NONSGML v2.0.0//EN
X-WR-TIMEZONE:America/Chicago
X-WR-CALNAME:Upcoming Auctions
BEGIN:VEVENT
UID:104767
DTSTAMP:20230801T163000
DTSTART:20230801T163000
DTEND:20230801T173000
SUMMARY:LIVING ESTATE AUCTION
LOCATION:10125 Earnshaw Street\, Lenexa\, KS 66215\, US
DESCRIPTION:Delores Miller Living Estate | Furniture\, Mid Century\, Art D
 eco\, Art\, Collectibles\, Home Decor\, Household Goods\, & Much
  More!
URL:https://www.auctionskc.com/auctions/detail/bw104767
SEQUENCE:1
END:VEVENT
END:VCALENDAR