BEGIN:VCALENDAR
VERSION:2.0
PRODID:-//ExpressionEngine Easy iCalendar plugin//NONSGML v2.0.1//EN
X-WR-TIMEZONE:America/Chicago
X-WR-CALNAME:Upcoming Auctions
BEGIN:VEVENT
UID:104772
DTSTAMP:20230813T110000
DTSTART:20230813T110000
DTEND:20230813T120000
SUMMARY:INCREDIBLE 2-RING ESTATE AUCTION
LOCATION:5255 Missouri Y\, Stewartsville\, MO 64490\, US
DESCRIPTION:Dallas Pickett Trust | Lifetime Collections of Antiques & Co
 llectibles\, Sterling\, Jewelry\, Art\, Furniture\, Tools\, Farm E
 quipment\, Home Decor\, Household Goods\, & Much More!
URL:https://www.auctionskc.com/auctions/detail/bw104772
SEQUENCE:1
END:VEVENT
END:VCALENDAR