BEGIN:VCALENDAR
VERSION:2.0
PRODID:-//ExpressionEngine Easy iCalendar plugin//NONSGML v2.0.1//EN
X-WR-TIMEZONE:America/Chicago
X-WR-CALNAME:Upcoming Auctions
BEGIN:VEVENT
UID:105038
DTSTAMP:20230818T103000
DTSTART:20230818T103000
DTEND:20230818T113000
SUMMARY:COMPLETE BUSINESS LIQUIDATION AUCTION
LOCATION:To be Announced!\, Merriam\, KS 66203\, US
DESCRIPTION:Coming Soon! | HMK Concrete | Trucks\, Skid Steers\, Trailers
 \, Equipment\, Tools\, Scrap\, Office Furnishings\, & Much More!
URL:https://www.auctionskc.com/auctions/detail/bw105038
SEQUENCE:1
END:VEVENT
END:VCALENDAR