BEGIN:VCALENDAR
VERSION:2.0
PRODID:-//ExpressionEngine Easy iCalendar plugin//NONSGML v2.0.0//EN
X-WR-TIMEZONE:America/Chicago
X-WR-CALNAME:Upcoming Auctions
BEGIN:VEVENT
UID:105961
DTSTAMP:20230815T163000
DTSTART:20230815T163000
DTEND:20230815T173000
SUMMARY:ESTATE AUCTION
LOCATION:6441 Milhaven Drive\, Mission\, KS 66202\, US
DESCRIPTION:Sally Ann Anderson Estate & Dr. Charles Anderson Living Esta
 te | Collectibles\, Quality Furniture\, Silver\, Vintage Baseba
 ll Cards\, Home Decor\, Tools\, Appliances\, Household Goods\, &
  Much More!
URL:https://www.auctionskc.com/auctions/detail/bw105961
SEQUENCE:1
END:VEVENT
END:VCALENDAR