BEGIN:VCALENDAR
VERSION:2.0
PRODID:-//ExpressionEngine Easy iCalendar plugin//NONSGML v2.0.1//EN
X-WR-TIMEZONE:America/Chicago
X-WR-CALNAME:Upcoming Auctions
BEGIN:VEVENT
UID:106081
DTSTAMP:20230910T110000
DTSTART:20230910T110000
DTEND:20230910T120000
SUMMARY:REAL ESTATE & PERSONAL PROPERTY AUCTION
LOCATION:209 NW Hillcrest Lane\, Lee's Summit\, MO 64063\, US
DESCRIPTION:Lena Mae Zvacek Estate | Real Estate\, Collectibles\, Vintage 
 Goods\, Furniture\, Tools\, Major Appliances\, Home Decor\, House
 hold Goods\, & Much More!
URL:https://www.auctionskc.com/auctions/detail/bw106081
SEQUENCE:1
END:VEVENT
END:VCALENDAR