BEGIN:VCALENDAR
VERSION:2.0
PRODID:-//ExpressionEngine Easy iCalendar plugin//NONSGML v2.0.0//EN
X-WR-TIMEZONE:America/Chicago
X-WR-CALNAME:Upcoming Auctions
BEGIN:VEVENT
UID:106310
DTSTAMP:20230820T110000
DTSTART:20230820T110000
DTEND:20230820T120000
SUMMARY:EMERGENCY COMBINED ESTATES AUCTION
LOCATION:8640 Holmes Road\, Kansas City\, MO 64131\, US
DESCRIPTION:Private Estates from Mission Hills\, KS and Lee's Summit\, MO 
 | Many Antiques & Collectibles\, Antique Furniture\, Fine Jewe
 lry\, Coins\, Art\, Home Decor\, Household Goods\, & Much More!
URL:https://www.auctionskc.com/auctions/detail/bw106310
SEQUENCE:1
END:VEVENT
END:VCALENDAR