BEGIN:VCALENDAR
VERSION:2.0
PRODID:-//ExpressionEngine Easy iCalendar plugin//NONSGML v2.0.0//EN
X-WR-TIMEZONE:America/Chicago
X-WR-CALNAME:Upcoming Auctions
BEGIN:VEVENT
UID:106574
DTSTAMP:20230827T110000
DTSTART:20230827T110000
DTEND:20230827T120000
SUMMARY:FANTASTIC COLLECTOR'S ESTATE AUCTION
LOCATION:21107 Donahoo Road\, Tonganoxie\, KS 66086\, US
DESCRIPTION:Private Seller | Vehicle\, Tractors\, Farm Equipment\, Firearms
 \, Coins\, Jewelry\, Collectibles\, Restaurant Equipment\, Build
 ing Materials\, Tools\, & Much More!
URL:https://www.auctionskc.com/auctions/detail/bw106574
SEQUENCE:1
END:VEVENT
END:VCALENDAR