BEGIN:VCALENDAR
VERSION:2.0
PRODID:-//ExpressionEngine Easy iCalendar plugin//NONSGML v2.0.0//EN
X-WR-TIMEZONE:America/Chicago
X-WR-CALNAME:Upcoming Auctions
BEGIN:VEVENT
UID:106636
DTSTAMP:20230831T183000
DTSTART:20230831T183000
DTEND:20230831T193000
SUMMARY:REAL ESTATE AUCTION
LOCATION:2205 NW State Route 92\, Smithville\, MO 64089\, US
DESCRIPTION:Iona "Joan" Maag Estate | True Ranch Home on 5+ Prime Acres 
 in Smithville\, MO
URL:https://www.auctionskc.com/auctions/detail/bw106636
SEQUENCE:1
END:VEVENT
END:VCALENDAR