BEGIN:VCALENDAR
VERSION:2.0
PRODID:-//ExpressionEngine Easy iCalendar plugin//NONSGML v2.0.1//EN
X-WR-TIMEZONE:America/Chicago
X-WR-CALNAME:Upcoming Auctions
BEGIN:VEVENT
UID:107440
DTSTAMP:20230923T110000
DTSTART:20230923T110000
DTEND:20230923T120000
SUMMARY:REAL ESTATE & HUGE 2-RING PERSONAL PROPERTY AUCTION
LOCATION:2807 N Faraon Street\, St. Joseph\, MO 64501\, US
DESCRIPTION:Hughes Estate | Real Estate\, Truck\, Antiques & Collectibles\,
  Coin Collection\, Clocks\, Furniture\, Woodworking Tools\, App
 liances\, Home Decor\, Household Goods\, & Much More!
URL:https://www.auctionskc.com/auctions/detail/bw107440
SEQUENCE:1
END:VEVENT
END:VCALENDAR