BEGIN:VCALENDAR
VERSION:2.0
PRODID:-//ExpressionEngine Easy iCalendar plugin//NONSGML v2.0.0//EN
X-WR-TIMEZONE:America/Chicago
X-WR-CALNAME:Upcoming Auctions
BEGIN:VEVENT
UID:108129
DTSTAMP:20230920T163000
DTSTART:20230920T163000
DTEND:20230920T173000
SUMMARY:LAST MINUTE ESTATE AUCTION
LOCATION:7135 Edith Avenue\, Kansas City\, KS 66109\, US
DESCRIPTION:Robert Oliver Estate | Collectibles\, Vintage/Retro\, Furnitur
 e\, Harley Items\, Shop Tools\, Home Decor\, Household Goods & 
 Much More!
URL:https://www.auctionskc.com/auctions/detail/bw108129
SEQUENCE:1
END:VEVENT
END:VCALENDAR