BEGIN:VCALENDAR
VERSION:2.0
PRODID:-//ExpressionEngine Easy iCalendar plugin//NONSGML v2.0.0//EN
X-WR-TIMEZONE:America/Chicago
X-WR-CALNAME:Upcoming Auctions
BEGIN:VEVENT
UID:108205
DTSTAMP:20230922T150000
DTSTART:20230922T150000
DTEND:20230922T160000
SUMMARY:VINTAGE TIME CAPSULE ESTATE AUCTION
LOCATION:2012 Clay Street\, St. Joseph\, MO 64501\, US
DESCRIPTION:Vincent L. Westbrook Estate | Antiques & Collectibles\, Furni
 ture\, Jewelry\, Vintage Goods\, Tools\, Home Decor\, Household G
 oods\, & Much More!
URL:https://www.auctionskc.com/auctions/detail/bw108205
SEQUENCE:1
END:VEVENT
END:VCALENDAR