BEGIN:VCALENDAR
VERSION:2.0
PRODID:-//ExpressionEngine Easy iCalendar plugin//NONSGML v2.0.1//EN
X-WR-TIMEZONE:America/Chicago
X-WR-CALNAME:Upcoming Auctions
BEGIN:VEVENT
UID:108555
DTSTAMP:20230929T164500
DTSTART:20230929T164500
DTEND:20230929T174500
SUMMARY:ECLECTIC ESTATE AUCTION
LOCATION:371 Woodlawn Manor\, Lawrence\, KS 66049\, US
DESCRIPTION:Larry Davidson Estate & Angie Davidson Living Estate | Firea
 rms\, Sterling\, Jewelry\, Antiques\, Collectibles\, Furniture\, 
 Tools\, Home Decor\, Household Goods\, & Much More!
URL:https://www.auctionskc.com/auctions/detail/bw108555
SEQUENCE:1
END:VEVENT
END:VCALENDAR