BEGIN:VCALENDAR
VERSION:2.0
PRODID:-//ExpressionEngine Easy iCalendar plugin//NONSGML v2.0.0//EN
X-WR-TIMEZONE:America/Chicago
X-WR-CALNAME:Upcoming Auctions
BEGIN:VEVENT
UID:108626
DTSTAMP:20231001T173000
DTSTART:20231001T173000
DTEND:20231001T183000
SUMMARY:Under a Harvest Moon Benefit Auction
LOCATION:1609 NW US Highway 50\, Kingsville\, MO 64061\, US
DESCRIPTION:A Fundraiser for Powell Gardens | "Under a Harvest Moon" Ben
 efit Fundraising Auction
URL:https://www.auctionskc.com/auctions/detail/bw108626
SEQUENCE:1
END:VEVENT
END:VCALENDAR