BEGIN:VCALENDAR
VERSION:2.0
PRODID:-//ExpressionEngine Easy iCalendar plugin//NONSGML v2.0.0//EN
X-WR-TIMEZONE:America/Chicago
X-WR-CALNAME:Upcoming Auctions
BEGIN:VEVENT
UID:108627
DTSTAMP:20231008T160000
DTSTART:20231008T160000
DTEND:20231008T170000
SUMMARY:9th Annual Pie Auction Charity Fundraiser
LOCATION:1501 Learnard Avenue\, Lawrence\, KS 66044\, US
DESCRIPTION:Sunrise Project | 9th Annual Pie Auction Charity Fundraiser
URL:https://www.auctionskc.com/auctions/detail/bw108627
SEQUENCE:1
END:VEVENT
END:VCALENDAR