BEGIN:VCALENDAR
VERSION:2.0
PRODID:-//ExpressionEngine Easy iCalendar plugin//NONSGML v2.0.0//EN
X-WR-TIMEZONE:America/Chicago
X-WR-CALNAME:Upcoming Auctions
BEGIN:VEVENT
UID:108794
DTSTAMP:20231010T150000
DTSTART:20231010T150000
DTEND:20231010T160000
SUMMARY:ESTATE AUCTION
LOCATION:809 Michigan Street\, Leavenworth\, KS 66048\, US
DESCRIPTION:Judy Jahn Estate | Vehicle\, Fine Jewelry\, Silver\, Collectibl
 es\, Furniture\, Appliances\, Home Decor\, Tools\, Household Good
 s\, & Much More!
URL:https://www.auctionskc.com/auctions/detail/bw108794
SEQUENCE:1
END:VEVENT
END:VCALENDAR