BEGIN:VCALENDAR
VERSION:2.0
PRODID:-//ExpressionEngine Easy iCalendar plugin//NONSGML v2.0.0//EN
X-WR-TIMEZONE:America/Chicago
X-WR-CALNAME:Upcoming Auctions
BEGIN:VEVENT
UID:109597
DTSTAMP:20231021T110000
DTSTART:20231021T110000
DTEND:20231021T120000
SUMMARY:REAL ESTATE & PERSONAL PROPERTY AUCTION
LOCATION:16623 Salem Road\, Lawson\, MO 64062\, US
DESCRIPTION:Henry & Helen Hale Estate | Real Estate\, Vehicle\, Dirt Bike\,
  Farm Equipment\, Collectibles\, Vintage Toys\, Antique Furnit
 ure\, Tons of Tools\, Home Decor\, Household Goods\, & Much More
 !
URL:https://www.auctionskc.com/auctions/detail/bw109597
SEQUENCE:1
END:VEVENT
END:VCALENDAR