BEGIN:VCALENDAR
VERSION:2.0
PRODID:-//ExpressionEngine Easy iCalendar plugin//NONSGML v2.0.0//EN
X-WR-TIMEZONE:America/Chicago
X-WR-CALNAME:Upcoming Auctions
BEGIN:VEVENT
UID:110261
DTSTAMP:20231112T110000
DTSTART:20231112T110000
DTEND:20231112T120000
SUMMARY:INCREDIBLE ESTATE AUCTION
LOCATION:8556 SW State Hwy Z\, Trimble\, MO 64492\, US
DESCRIPTION:Harold Wagoner Estate | Classic Vehicles\, Tractors\, Motorhom
 e\, Trailers\, Firearms\, Collectibles\, Furniture\, Many Tools\, 
 Home Decor\, Household Goods\, & Much More!
URL:https://www.auctionskc.com/auctions/detail/bw110261
SEQUENCE:1
END:VEVENT
END:VCALENDAR