BEGIN:VCALENDAR
VERSION:2.0
PRODID:-//ExpressionEngine Easy iCalendar plugin//NONSGML v2.0.0//EN
X-WR-TIMEZONE:America/Chicago
X-WR-CALNAME:Upcoming Auctions
BEGIN:VEVENT
UID:110649
DTSTAMP:20231114T143000
DTSTART:20231114T143000
DTEND:20231114T153000
SUMMARY:REAL ESTATE & PERSONAL PROPERTY AUCTION
LOCATION:8307 Lane Avenue\, Raytown\, MO 64138\, US
DESCRIPTION:Gassen Living Estate | Real Estate\, Many Woodworking & Other
  Tools\, Furniture\, Appliances\, Home Decor\, Household Goods\, 
 & Much More!
URL:https://www.auctionskc.com/auctions/detail/bw110649
SEQUENCE:1
END:VEVENT
END:VCALENDAR