BEGIN:VCALENDAR
VERSION:2.0
PRODID:-//ExpressionEngine Easy iCalendar plugin//NONSGML v2.0.1//EN
X-WR-TIMEZONE:America/New_York
X-WR-CALNAME:Upcoming Auctions
BEGIN:VEVENT
UID:110756
DTSTAMP:20231106T150000
DTSTART:20231106T150000
DTEND:20231106T160000
SUMMARY:EMERGENCY LAST MINUTE ESTATE AUCTION
LOCATION:3206 S Santa Fe Road\, Independence\, MO 64055\, US
DESCRIPTION:Jackson Living Estate | Collectibles\, Furniture\, Appliances\,
  Tools\, Home Decor\, Household Goods\, & Much More!
URL:https://www.auctionskc.com/auctions/detail/bw110756
SEQUENCE:1
END:VEVENT
END:VCALENDAR