BEGIN:VCALENDAR
VERSION:2.0
PRODID:-//ExpressionEngine Easy iCalendar plugin//NONSGML v2.0.1//EN
X-WR-TIMEZONE:America/New_York
X-WR-CALNAME:Upcoming Auctions
BEGIN:VEVENT
UID:111039
DTSTAMP:20231119T110000
DTSTART:20231119T110000
DTEND:20231119T120000
SUMMARY:EXCELLENT ESTATE AUCTION
LOCATION:9470 W 167th Street\, Overland Park\, KS 66085\, US
DESCRIPTION:Ned Lee Estate | Skid Steer\, Jeep\, Motorcycles\, Trailers\, Co
 llectibles\, Tons of Tools & Shop Equipment\, Home Decor\, Hous
 ehold\, & Much More!
URL:https://www.auctionskc.com/auctions/detail/bw111039
SEQUENCE:1
END:VEVENT
END:VCALENDAR