BEGIN:VCALENDAR
VERSION:2.0
PRODID:-//ExpressionEngine Easy iCalendar plugin//NONSGML v2.0.1//EN
X-WR-TIMEZONE:America/Chicago
X-WR-CALNAME:Upcoming Auctions
BEGIN:VEVENT
UID:111555
DTSTAMP:20231125T103000
DTSTART:20231125T103000
DTEND:20231125T113000
SUMMARY:HUGE COLLECTOR'S AUCTION
LOCATION:8640 Holmes Road\, Kansas City\, MO 64131\, US
DESCRIPTION:NEW PHOTOS ADDED! INDOORS! Jose | Many Antiques & Collectibl
 es\, Firearms\, Jewelry\, Coins\, Tools\, Home Decor\, Household G
 oods\, & Much More!
URL:https://www.auctionskc.com/auctions/detail/bw111555
SEQUENCE:1
END:VEVENT
END:VCALENDAR