BEGIN:VCALENDAR
VERSION:2.0
PRODID:-//ExpressionEngine Easy iCalendar plugin//NONSGML v2.0.1//EN
X-WR-TIMEZONE:America/Chicago
X-WR-CALNAME:Upcoming Auctions
BEGIN:VEVENT
UID:111557
DTSTAMP:20231203T110000
DTSTART:20231203T110000
DTEND:20231203T120000
SUMMARY:TREASURE HUNT ESTATE AUCTION
LOCATION:613 Chestnut Street\, Leavenworth\, KS 66048\, US
DESCRIPTION:Catherine Marrin Estate | Antiques & Collectibles\, Model T
 rains\, Furniture\, Tools\, Appliances\, Home Decor\, Household G
 oods\, & Much More!
URL:https://www.auctionskc.com/auctions/detail/bw111557
SEQUENCE:1
END:VEVENT
END:VCALENDAR