BEGIN:VCALENDAR
VERSION:2.0
PRODID:-//ExpressionEngine Easy iCalendar plugin//NONSGML v2.0.1//EN
X-WR-TIMEZONE:America/Chicago
X-WR-CALNAME:Upcoming Auctions
BEGIN:VEVENT
UID:112090
DTSTAMP:20231209T103000
DTSTART:20231209T103000
DTEND:20231209T113000
SUMMARY:FANTASTIC ESTATE AUCTION
LOCATION:6872 SE Horseshoe Drive\, Holt\, MO 64048\, US
DESCRIPTION:"JR" Barber Estate | 80+ Firearms\, Ammo\, Truck\, ZTR Lawn Mo
 wer\, Trike Motorcycle\, Trailer\, Antiques & Collectibles\, Fur
 niture\, Mechanic's Tools\, Appliances\, Household Goods\, Hom
 e Decor\, & Much More!
URL:https://www.auctionskc.com/auctions/detail/bw112090
SEQUENCE:1
END:VEVENT
END:VCALENDAR