BEGIN:VCALENDAR
VERSION:2.0
PRODID:-//ExpressionEngine Easy iCalendar plugin//NONSGML v2.0.0//EN
X-WR-TIMEZONE:America/Chicago
X-WR-CALNAME:Upcoming Auctions
BEGIN:VEVENT
UID:112743
DTSTAMP:20231216T130000
DTSTART:20231216T130000
DTEND:20231216T140000
SUMMARY:BANK ORDERED EMERGENCY ESTATE AUCTION
LOCATION:2401 SW Still Meadows Lane\, Blue Springs\, MO 64015\, US
DESCRIPTION:Short Notice Auction | Collectibles\, Furniture\, Tools\, Home 
 Decor\, Household Goods\, & Much More!
URL:https://www.auctionskc.com/auctions/detail/bw112743
SEQUENCE:1
END:VEVENT
END:VCALENDAR